BEGIN:VCALENDAR
VERSION:2.0
PRODID:-//wp-events-plugin.com//7.2.3.1//EN
TZID:Australia/Brisbane
X-WR-TIMEZONE:Australia/Brisbane
BEGIN:VEVENT
UID:31@boyneburnettinlandrailtrail.org.au
DTSTART;TZID=Australia/Brisbane:20260104T000000
DTEND;TZID=Australia/Brisbane:20260104T000000
DTSTAMP:20251112T053316Z
URL:https://www.boyneburnettinlandrailtrail.org.au/events/2026-uci-cyclo-c
 ross-world-championships/
SUMMARY:2026 UCI Cyclo-cross World Championships
DESCRIPTION:Zonhoven\, Belgium is the host of the 2026 UCI Cyclo-cross Worl
 d Championships on January 4th.\n\nYou can find all the details here:\n\nh
 ttps://www.uci.org/race-hub/2025-2026-uci-cyclo-cross-world-cup-9-zonhoven
 /4eWdjCzQ2rppLEN6Y83ql3\n\nWe keep connected with these events through our
  BBIRT international memberships.
ATTACH;FMTTYPE=image/jpeg:https://www.boyneburnettinlandrailtrail.org.au/w
 p-content/uploads/2025/11/30112022-worldcup.jpg
END:VEVENT
BEGIN:VTIMEZONE
TZID:Australia/Brisbane
X-LIC-LOCATION:Australia/Brisbane
BEGIN:STANDARD
DTSTART:20250104T000000
TZOFFSETFROM:+1000
TZOFFSETTO:+1000
TZNAME:AEST
END:STANDARD
END:VTIMEZONE
END:VCALENDAR